BEGIN:VCALENDAR
VERSION:2.0
CALSCALE:GREGORIAN
PRODID:adamgibbons/ics
METHOD:PUBLISH
X-PUBLISHED-TTL:PT1H
BEGIN:VEVENT
UID:704@test.event.cologne
SUMMARY:Auf den Spuren von Peter Josef Lenné
DTSTAMP:20260420T081039Z
DTSTART:20260531T170000Z
DTEND:20260531T200000Z
DESCRIPTION:Nippes\n\nThemenführung im Botanischen Garten\n\nab 11 Uhr\n\nD
	ie Führung kostet 7 Euro für Erwachsene und 4 Euro für Kinder\, Schüler*in
	nen\,\nStudierende\, Schwerbehinderte\, Köln-Pass und NRW-Ehrenamtler*inne
	n
URL:https://test.event.cologne/event/auf-den-spuren-von-peter-josef-lenne
GEO:50.9592;6.97221
LOCATION:Flora und Botanischer Garten - Alter Stammheimer Weg (Haupteingang
	) \, 50735 Köln
STATUS:CONFIRMED
CATEGORIES:Führung,Nippes
X-ALT-DESC;FMTTYPE=text/html:<p><strong>Nippes</strong></p><p>Themenführung
	 im Botanischen Garten</p><p>ab 11 Uhr</p><p>Die Führung kostet 7 Euro für
	 Erwachsene und 4 Euro für Kinder, Schüler*innen, Studierende, Schwerbehin
	derte, Köln-Pass und NRW-Ehrenamtler*innen</p>
BEGIN:VALARM
ACTION:DISPLAY
DESCRIPTION:Auf den Spuren von Peter Josef Lenné
TRIGGER:-PT1H
END:VALARM
END:VEVENT
END:VCALENDAR
