BEGIN:VCALENDAR
VERSION:2.0
CALSCALE:GREGORIAN
PRODID:adamgibbons/ics
METHOD:PUBLISH
X-PUBLISHED-TTL:PT1H
BEGIN:VEVENT
UID:699@test.event.cologne
SUMMARY:Das Fenster zum Hof
DTSTAMP:20260420T083401Z
DTSTART:20260529T220000Z
DTEND:20260529T220000Z
DESCRIPTION:Rodenkirchen\n\nLesung der Kurzgeschichte mit Hörspielinterpret
	\, Schauspieler\, Sänger und\nSynchronsprecher Jens Wawrczeck. Eine Verans
	taltung des Fördervereins Literamus\ne. V. in der Stadtteilbibliothek Rode
	nkirchen.\n\n19: 30 Uhr\n\nDer Eintritt kostet 15 Euro.
URL:https://test.event.cologne/event/das-fenster-zum-hof
GEO:50.8894;6.99171
LOCATION:Stadtteilbibliothek Rodenkirchen - Schillingsrotter Straße 38\, 50
	996 Köln
STATUS:CONFIRMED
CATEGORIES:Lesung,Rodenkirchen
X-ALT-DESC;FMTTYPE=text/html:<p><strong>Rodenkirchen</strong></p><p>Lesung 
	der Kurzgeschichte mit Hörspielinterpret, Schauspieler, Sänger und Synchro
	nsprecher Jens Wawrczeck. Eine Veranstaltung des Fördervereins Literamus e
	. V. in der Stadtteilbibliothek Rodenkirchen.</p><p>19: 30 Uhr</p><p>Der E
	intritt kostet 15 Euro.</p>
BEGIN:VALARM
ACTION:DISPLAY
DESCRIPTION:Das Fenster zum Hof
TRIGGER:-PT1H
END:VALARM
END:VEVENT
END:VCALENDAR
