BEGIN:VCALENDAR
VERSION:2.0
CALSCALE:GREGORIAN
PRODID:adamgibbons/ics
METHOD:PUBLISH
X-PUBLISHED-TTL:PT1H
BEGIN:VEVENT
UID:720@test.event.cologne
SUMMARY:Erfahrungsaustausch: (Nicht?-)lesbische und (nicht?-)religiöse Sich
	tbarkeit
DTSTAMP:20260420T084050Z
DTSTART:20260502T130000Z
DTEND:20260502T143000Z
DESCRIPTION:Lesbisch und pansexuell\, cis*-/inter*- und trans*-weiblich\, j
	ünger und älter\,\nDDR und BRD: Unsere Erfahrungen sind an sich schon viel
	fältig - aber in\nVerbindung mit unseren (nicht-)religiösen Bezügen wird e
	s erst recht spannend.\n\n15 bis 16:30 Uhr\n\nDie Veranstaltung ist kosten
	frei.
URL:https://test.event.cologne/event/erfahrungsaustausch-nicht-lesbische-un
	d-nicht-religiose-sichtbarkeit
LOCATION:Metropolitan Community Church (MCC) Köln e. V. - Gremberger Straße
	  68 (Hinterhof)\, 51105 Köln
STATUS:CONFIRMED
CATEGORIES:Kalk,Wortveranstaltung
X-ALT-DESC;FMTTYPE=text/html:<p>Lesbisch und pansexuell, cis*-/inter*- und 
	trans*-weiblich, jünger und älter, DDR und BRD: Unsere Erfahrungen sind an
	 sich schon vielfältig - aber in Verbindung mit unseren (nicht-)religiösen
	 Bezügen wird es erst recht spannend.</p><p>15 bis 16:30 Uhr</p><p>Die Ver
	anstaltung ist kostenfrei.</p>
BEGIN:VALARM
ACTION:DISPLAY
DESCRIPTION:Erfahrungsaustausch: (Nicht?-)lesbische und (nicht?-)religiöse 
	Sichtbarkeit
TRIGGER:-PT1H
END:VALARM
END:VEVENT
END:VCALENDAR
