BEGIN:VCALENDAR
VERSION:2.0
CALSCALE:GREGORIAN
PRODID:adamgibbons/ics
METHOD:PUBLISH
X-PUBLISHED-TTL:PT1H
BEGIN:VEVENT
UID:681@test.event.cologne
SUMMARY:Für Zusammenhalt & Solidarität – Open-Air Festival
DTSTAMP:20260420T084050Z
DTSTART:20260613T120000Z
DTEND:20260613T120000Z
URL:https://test.event.cologne/event/fur-zusammenhalt-and-solidaritat-open-
	air-festival
GEO:50.9459;6.97042
LOCATION:Tanzbrunnen - Rheinparkweg 1\, 50679 Köln
STATUS:CONFIRMED
CATEGORIES:
BEGIN:VALARM
ACTION:DISPLAY
DESCRIPTION:Für Zusammenhalt & Solidarität – Open-Air Festival
TRIGGER:-PT1H
END:VALARM
END:VEVENT
END:VCALENDAR
