BEGIN:VCALENDAR
VERSION:2.0
CALSCALE:GREGORIAN
PRODID:adamgibbons/ics
METHOD:PUBLISH
X-PUBLISHED-TTL:PT1H
BEGIN:VEVENT
UID:692@test.event.cologne
SUMMARY:Internationales Frauen Film Fest Dortmund+Köln 2026
DTSTAMP:20260420T080856Z
DTSTART:20260421T220000Z
DTEND:20260425T220000Z
DESCRIPTION:Am 22. April 2026 startet in Köln die 43. Ausgabe des Internati
	onales Frauen\nFilm Fest Dortmund+Köln. Fünf Tage lang gibt es rund 90 Fil
	me sowie Panels und\nGespräche zu feministischen und gesellschaftlichen Th
	emen.\n\nDie Preise variieren je nach Veranstaltung.
URL:https://test.event.cologne/event/internationales-frauen-film-fest-dortm
	undkoln-2026
LOCATION:Verschiedene Veranstaltungsorte in - \,  Köln
STATUS:CONFIRMED
CATEGORIES:Film
X-ALT-DESC;FMTTYPE=text/html:<p>Am 22. April 2026 startet in Köln die 43. A
	usgabe des Internationales Frauen Film Fest Dortmund+Köln. Fünf Tage lang 
	gibt es rund 90 Filme sowie Panels und Gespräche zu feministischen und ges
	ellschaftlichen Themen.</p><p>Die Preise variieren je nach Veranstaltung.<
	/p>
BEGIN:VALARM
ACTION:DISPLAY
DESCRIPTION:Internationales Frauen Film Fest Dortmund+Köln 2026
TRIGGER:-PT1H
END:VALARM
END:VEVENT
END:VCALENDAR
