BEGIN:VCALENDAR
VERSION:2.0
CALSCALE:GREGORIAN
PRODID:adamgibbons/ics
METHOD:PUBLISH
X-PUBLISHED-TTL:PT1H
BEGIN:VEVENT
UID:684@test.event.cologne
SUMMARY:Köln Triathlon
DTSTAMP:20260420T082853Z
DTSTART:20260906T040000Z
DTEND:20260906T040000Z
URL:https://test.event.cologne/event/koln-triathlon
GEO:50.9459;6.97042
LOCATION:Tanzbrunnen - Rheinparkweg 1\, 50679 Köln
STATUS:CONFIRMED
CATEGORIES:
BEGIN:VALARM
ACTION:DISPLAY
DESCRIPTION:Köln Triathlon
TRIGGER:-PT1H
END:VALARM
END:VEVENT
END:VCALENDAR
