BEGIN:VCALENDAR
VERSION:2.0
CALSCALE:GREGORIAN
PRODID:adamgibbons/ics
METHOD:PUBLISH
X-PUBLISHED-TTL:PT1H
BEGIN:VEVENT
UID:717@test.event.cologne
SUMMARY:Lesbian Jam: Singer-Songwriter-Event
DTSTAMP:20260420T083138Z
DTSTART:20260427T170000Z
DTEND:20260427T190000Z
DESCRIPTION:Auf der Bühne präsentieren sich Musikerinnen unterschiedlicher 
	Generationen und\nStilrichtungen.\n\n19 bis 21 Uhr\n\nkostenfrei
URL:https://test.event.cologne/event/lesbian-jam-singer-songwriter-event
LOCATION:anyway e. V. - Kamekestraße 14\, 50672  Köln
STATUS:CONFIRMED
CATEGORIES:EintrittFrei,Innenstadt,Konzert
X-ALT-DESC;FMTTYPE=text/html:<p>Auf der Bühne präsentieren sich Musikerinne
	n unterschiedlicher Generationen und Stilrichtungen.</p><p>19 bis 21 Uhr</
	p><p>kostenfrei</p>
BEGIN:VALARM
ACTION:DISPLAY
DESCRIPTION:Lesbian Jam: Singer-Songwriter-Event
TRIGGER:-PT1H
END:VALARM
END:VEVENT
END:VCALENDAR
