BEGIN:VCALENDAR
VERSION:2.0
CALSCALE:GREGORIAN
PRODID:adamgibbons/ics
METHOD:PUBLISH
X-PUBLISHED-TTL:PT1H
BEGIN:VEVENT
UID:694@test.event.cologne
SUMMARY:Lunch Lectures
DTSTAMP:20260420T082853Z
DTSTART:20260527T111500Z
DTEND:20260527T200000Z
DESCRIPTION:Innenstadt\n\n35 Literaturgeschichten – diesmal mit Birgit Kemp
	ker und Heilig Blut von Gisela\nElsner. Im Rahmen unseres Kulturprogramms 
	im Interim Zentralbibliothek.\n\n13:15 Uhr\n\nDer Eintritt ist frei.
URL:https://test.event.cologne/event/lunch-lectures-3
GEO:50.9371;6.95656
LOCATION:Interim Zentralbibliothek - Hohe Straße 68-82\, 50667 Köln
STATUS:CONFIRMED
CATEGORIES:Innenstadt,Lesung
X-ALT-DESC;FMTTYPE=text/html:<p><strong>Innenstadt</strong></p><p>35 Litera
	turgeschichten – diesmal mit Birgit Kempker und Heilig Blut von Gisela Els
	ner. Im Rahmen unseres Kulturprogramms im Interim Zentralbibliothek.</p><p
	>13:15 Uhr</p><p>Der Eintritt ist frei.</p>
BEGIN:VALARM
ACTION:DISPLAY
DESCRIPTION:Lunch Lectures
TRIGGER:-PT1H
END:VALARM
END:VEVENT
END:VCALENDAR
