BEGIN:VCALENDAR
VERSION:2.0
CALSCALE:GREGORIAN
PRODID:adamgibbons/ics
METHOD:PUBLISH
X-PUBLISHED-TTL:PT1H
BEGIN:VEVENT
UID:706@test.event.cologne
SUMMARY:Solarstrom selber produzieren
DTSTAMP:20260420T083819Z
DTSTART:20260418T080000Z
DTEND:20260418T120000Z
DESCRIPTION:Ehrenfeld\, EintrittFrei\n\nEin Informationsangebot der Verbrau
	cherzentrale NRW in der Stadtteilbibliothek\nEhrenfeld.\n\n10 bis 14 Uhr\n
	\nDie Teilnahme ist kostenlos.
URL:https://test.event.cologne/event/solarstrom-selber-produzieren-1
GEO:50.9539;6.91917
LOCATION:Stadtteilbibliothek Ehrenfeld - Subbelrather Straße 247-249\, 5082
	5 Köln
STATUS:CONFIRMED
CATEGORIES:Ehrenfeld,EintrittFrei
X-ALT-DESC;FMTTYPE=text/html:<p><strong>Ehrenfeld, EintrittFrei</strong></p
	><p>Ein Informationsangebot der Verbraucherzentrale NRW in der Stadtteilbi
	bliothek Ehrenfeld.</p><p>10 bis 14 Uhr</p><p>Die Teilnahme ist kostenlos.
	</p>
BEGIN:VALARM
ACTION:DISPLAY
DESCRIPTION:Solarstrom selber produzieren
TRIGGER:-PT1H
END:VALARM
END:VEVENT
END:VCALENDAR
