BEGIN:VCALENDAR
VERSION:2.0
CALSCALE:GREGORIAN
PRODID:adamgibbons/ics
METHOD:PUBLISH
X-PUBLISHED-TTL:PT1H
BEGIN:VEVENT
UID:688@test.event.cologne
SUMMARY:Tag der offenen Tür und Sommerfest der Rheinischen Musikschule - Re
	gionalschule Nord (Nippes)
DTSTAMP:20260420T084121Z
DTSTART:20260530T100000Z
DTEND:20260530T150000Z
DESCRIPTION:Nippes\, EintrittFrei\n\nUnsere Regionalschule Nord Nippes öffn
	et ihre Pforten für alle Interessierten\,\ndie uns und unsere Angebote ken
	nenlernen möchten.\n\n12 bis 17 Uhr\n\nEintritt frei
URL:https://test.event.cologne/event/tag-der-offenen-tur-und-sommerfest-der
	-rheinischen-musikschule-regionalschule-nord-nippes
LOCATION:Rheinische Musikschule – Regionalschule Nord – Nippes - Turmstraße
	 3-7\, 50733 Köln
STATUS:CONFIRMED
CATEGORIES:EintrittFrei,Konzert,Nippes
X-ALT-DESC;FMTTYPE=text/html:<p><strong>Nippes, EintrittFrei</strong></p><p
	>Unsere Regionalschule Nord Nippes öffnet ihre Pforten für alle Interessie
	rten, die uns und unsere Angebote kennenlernen möchten.</p><p>12 bis 17 Uh
	r</p><p>Eintritt frei</p>
BEGIN:VALARM
ACTION:DISPLAY
DESCRIPTION:Tag der offenen Tür und Sommerfest der Rheinischen Musikschule 
	- Regionalschule Nord (Nippes)
TRIGGER:-PT1H
END:VALARM
END:VEVENT
END:VCALENDAR
