BEGIN:VCALENDAR
VERSION:2.0
CALSCALE:GREGORIAN
PRODID:adamgibbons/ics
METHOD:PUBLISH
X-PUBLISHED-TTL:PT1H
BEGIN:VEVENT
UID:703@test.event.cologne
SUMMARY:Werkstatt für das Winzer- und Pantaleonsveedel
DTSTAMP:20260420T082516Z
DTSTART:20260503T220000Z
DTEND:20260503T220000Z
DESCRIPTION:Innenstadt\, EintrittFrei\n\nHitze\, Starkregen und volle Gehwe
	ge – wie können wir das Winzer- und\nPantaleonsveedel klimafreundlicher un
	d fußgängerfreundlicher gestalten? Im\nRahmen der Werkstatt besprechen wir
	 Ideen und planen einen Aktionstag im Sommer.\n\n18 bis 20 Uhr Einlass: ab
	 17:30 Uhr\n\nDie Teilnahme ist kostenlos.
URL:https://test.event.cologne/event/werkstatt-fur-das-winzer-und-pantaleon
	sveedel
LOCATION:Aula des Friedrich-Wilhelm-Gymnasiums - Severinstraße 241\, 50676 
	Köln
STATUS:CONFIRMED
CATEGORIES:EintrittFrei,Innenstadt,Wortveranstaltung
X-ALT-DESC;FMTTYPE=text/html:<p><strong>Innenstadt, EintrittFrei</strong></
	p><p>Hitze, Starkregen und volle Gehwege – wie können wir das Winzer- und 
	Pantaleonsveedel klimafreundlicher und fußgängerfreundlicher gestalten? Im
	 Rahmen der Werkstatt besprechen wir Ideen und planen einen Aktionstag im 
	Sommer.</p><p>18 bis 20 Uhr <strong>Einlass:</strong> ab 17:30 Uhr</p><p>D
	ie Teilnahme ist kostenlos.</p>
BEGIN:VALARM
ACTION:DISPLAY
DESCRIPTION:Werkstatt für das Winzer- und Pantaleonsveedel
TRIGGER:-PT1H
END:VALARM
END:VEVENT
END:VCALENDAR
